BEGIN:VCALENDAR
VERSION:2.0
PRODID:-//SCCPR - ECPv6.15.1.1//NONSGML v1.0//EN
CALSCALE:GREGORIAN
METHOD:PUBLISH
X-WR-CALNAME:SCCPR
X-ORIGINAL-URL:https://www.sccpr.com
X-WR-CALDESC:Events for SCCPR
REFRESH-INTERVAL;VALUE=DURATION:PT1H
X-Robots-Tag:noindex
X-PUBLISHED-TTL:PT1H
BEGIN:VTIMEZONE
TZID:UTC
BEGIN:STANDARD
TZOFFSETFROM:+0000
TZOFFSETTO:+0000
TZNAME:UTC
DTSTART:20260101T000000
END:STANDARD
END:VTIMEZONE
BEGIN:VEVENT
DTSTART;TZID=UTC:20260423T180000
DTEND;TZID=UTC:20260423T180000
DTSTAMP:20260423T022557
CREATED:20260309T142629Z
LAST-MODIFIED:20260420T195109Z
UID:67837-1776967200-1776967200@www.sccpr.com
SUMMARY:CPR-BLS Provider (C) / AED
DESCRIPTION:The BLS for Healthcare Provider (C) course skills taught are 1- and 2-rescuer adult\, child and infant CPR\, choking\, automated external defibrillator (AED) training and the use of bag valve mask (BVM). The course is designed for healthcare providers who need a credentialed course and is also open to first responders who have a duty to respond to a cardiac emergency because of job responsibilities or regulatory requirements. \n  \n**COURSE IS CLOSED FOR REGISTRATION**
URL:https://www.sccpr.com/event/cpr-bls-provider-c-aed-247/
LOCATION:Second Chance CPR Office\, 871 Janette Avenue\, Windsor\, Ontario\, N9A5A2\, Canada
CATEGORIES:Public
END:VEVENT
END:VCALENDAR