BEGIN:VCALENDAR
VERSION:2.0
PRODID:-//SCCPR - ECPv6.15.1.1//NONSGML v1.0//EN
CALSCALE:GREGORIAN
METHOD:PUBLISH
X-WR-CALNAME:SCCPR
X-ORIGINAL-URL:https://www.sccpr.com
X-WR-CALDESC:Events for SCCPR
REFRESH-INTERVAL;VALUE=DURATION:PT1H
X-Robots-Tag:noindex
X-PUBLISHED-TTL:PT1H
BEGIN:VTIMEZONE
TZID:UTC
BEGIN:STANDARD
TZOFFSETFROM:+0000
TZOFFSETTO:+0000
TZNAME:UTC
DTSTART:20230101T000000
END:STANDARD
END:VTIMEZONE
BEGIN:VEVENT
DTSTART;TZID=UTC:20230526T090000
DTEND;TZID=UTC:20230526T120000
DTSTAMP:20260423T160755
CREATED:20230523T191248Z
LAST-MODIFIED:20230523T191356Z
UID:45530-1685091600-1685102400@www.sccpr.com
SUMMARY:N95 Mask Fit Testing
DESCRIPTION:Second Chance is conducting N95 Quantitative Mask Fit testing here at our office. \nPlease click on this link to register for a time slot: https://www.sccpr.com/n95-fit-testing-appointment-booking/ \n 
URL:https://www.sccpr.com/event/n95-mask-fit-testing/
LOCATION:Second Chance CPR Office\, 871 Janette Avenue\, Windsor\, Ontario\, N9A5A2\, Canada
CATEGORIES:Health Care Professionals,Public
END:VEVENT
END:VCALENDAR