BEGIN:VCALENDAR
VERSION:2.0
PRODID:-//SCCPR - ECPv6.15.1.1//NONSGML v1.0//EN
CALSCALE:GREGORIAN
METHOD:PUBLISH
X-ORIGINAL-URL:https://www.sccpr.com
X-WR-CALDESC:Events for SCCPR
REFRESH-INTERVAL;VALUE=DURATION:PT1H
X-Robots-Tag:noindex
X-PUBLISHED-TTL:PT1H
BEGIN:VTIMEZONE
TZID:UTC
BEGIN:STANDARD
TZOFFSETFROM:+0000
TZOFFSETTO:+0000
TZNAME:UTC
DTSTART:20200101T000000
END:STANDARD
END:VTIMEZONE
BEGIN:VEVENT
DTSTART;TZID=UTC:20200801T083000
DTEND;TZID=UTC:20200801T123000
DTSTAMP:20260425T110204
CREATED:20200715T194725Z
LAST-MODIFIED:20200727T150331Z
UID:3390-1596270600-1596285000@www.sccpr.com
SUMMARY:BLS Provider (C) / AED
DESCRIPTION:The BLS for Healthcare Provider (C) course skills taught are 1- and 2-rescuer adult\, child and infant CPR\, choking\, automated external defibrillator (AED) training and the use of bag valve mask (BVM). The course is designed for healthcare providers who need a credentialed course and is also open to first responders who have a duty to respond to a cardiac emergency because of job responsibilities or regulatory requirements. \n*** PLEASE NOTE: Due to COVID-19\, class space is limited. Filling out the registration form does not automatically enroll you. You must call to guarantee registration or fill out the form below to receive a call back. \n  \n****REGISTRATION FOR THIS COURSE IS NOW CLOSED****
URL:https://www.sccpr.com/event/bls-provider-c-aed/
LOCATION:Second Chance CPR Office\, 871 Janette Avenue\, Windsor\, Ontario\, N9A5A2\, Canada
CATEGORIES:Public
END:VEVENT
BEGIN:VEVENT
DTSTART;TZID=UTC:20200801T130000
DTEND;TZID=UTC:20200801T170000
DTSTAMP:20260425T110204
CREATED:20200717T150927Z
LAST-MODIFIED:20200728T144356Z
UID:3490-1596286800-1596301200@www.sccpr.com
SUMMARY:BLS Provider (C) / AED
DESCRIPTION:The BLS for Healthcare Provider (C) course skills taught are 1- and 2-rescuer adult\, child and infant CPR\, choking\, automated external defibrillator (AED) training and the use of bag valve mask (BVM). The course is designed for healthcare providers who need a credentialed course and is also open to first responders who have a duty to respond to a cardiac emergency because of job responsibilities or regulatory requirements. \n*** PLEASE NOTE: Due to COVID-19\, class space is limited. Filling out the registration form does not automatically enroll you. You must call to guarantee registration or fill out the form below to receive a call back. \n  \n****REGISTRATION FOR THIS COURSE IS NOW CLOSED****
URL:https://www.sccpr.com/event/bls-provider-c-aed-23/
LOCATION:Second Chance CPR Office\, 871 Janette Avenue\, Windsor\, Ontario\, N9A5A2\, Canada
CATEGORIES:Public
END:VEVENT
BEGIN:VEVENT
DTSTART;TZID=UTC:20200805T083000
DTEND;TZID=UTC:20200806T163000
DTSTAMP:20260425T110204
CREATED:20200714T204523Z
LAST-MODIFIED:20200730T141633Z
UID:3343-1596616200-1596731400@www.sccpr.com
SUMMARY:BLS Provider (C) / Standard First Aid / AED
DESCRIPTION:This course is a 16-hour\, 2-day certification course in CPR – BLS (Basic Life Support) Provider/Standard First Aid/AED (Automated External Defibrillator). CPR/AED are both a 1-year certification\, and Standard First Aid are a 3-year certification. Due to COVID-19\, class space is limited and you must call to register to pay for the course ahead of time. \n  \n****REGISTRATION FOR THIS COURSE IS NOW CLOSED****
URL:https://www.sccpr.com/event/bls-provider-c-standard-first-aid-aed/
LOCATION:Second Chance CPR Office\, 871 Janette Avenue\, Windsor\, Ontario\, N9A5A2\, Canada
CATEGORIES:Public
END:VEVENT
BEGIN:VEVENT
DTSTART;TZID=UTC:20200807T083000
DTEND;TZID=UTC:20200807T123000
DTSTAMP:20260425T110204
CREATED:20200715T194934Z
LAST-MODIFIED:20200728T181205Z
UID:3392-1596789000-1596803400@www.sccpr.com
SUMMARY:BLS Provider (C) / AED
DESCRIPTION:The BLS for Healthcare Provider (C) course skills taught are 1- and 2-rescuer adult\, child and infant CPR\, choking\, automated external defibrillator (AED) training and the use of bag valve mask (BVM). The course is designed for healthcare providers who need a credentialed course and is also open to first responders who have a duty to respond to a cardiac emergency because of job responsibilities or regulatory requirements. \n*** PLEASE NOTE: Due to COVID-19\, class space is limited. Filling out the registration form does not automatically enroll you. You must call to guarantee registration or fill out the form below to receive a call back. \n  \n****REGISTRATION FOR THIS COURSE IS NOW CLOSED****
URL:https://www.sccpr.com/event/bls-provider-c-aed-2/
LOCATION:Second Chance CPR Office\, 871 Janette Avenue\, Windsor\, Ontario\, N9A5A2\, Canada
CATEGORIES:Public
END:VEVENT
BEGIN:VEVENT
DTSTART;TZID=UTC:20200807T130000
DTEND;TZID=UTC:20200807T170000
DTSTAMP:20260425T110204
CREATED:20200715T202721Z
LAST-MODIFIED:20200729T184155Z
UID:3424-1596805200-1596819600@www.sccpr.com
SUMMARY:BLS Provider (C) / AED
DESCRIPTION:The BLS for Healthcare Provider (C) course skills taught are 1- and 2-rescuer adult\, child and infant CPR\, choking\, automated external defibrillator (AED) training and the use of bag valve mask (BVM). The course is designed for healthcare providers who need a credentialed course and is also open to first responders who have a duty to respond to a cardiac emergency because of job responsibilities or regulatory requirements. \n*** PLEASE NOTE: Due to COVID-19\, class space is limited. Filling out the registration form does not automatically enroll you. You must call to guarantee registration or fill out the form below to receive a call back. \n  \n****REGISTRATION FOR THIS COURSE IS NOW CLOSED****
URL:https://www.sccpr.com/event/bls-provider-c-aed-18/
LOCATION:Second Chance CPR Office\, 871 Janette Avenue\, Windsor\, Ontario\, N9A5A2\, Canada
CATEGORIES:Public
END:VEVENT
BEGIN:VEVENT
DTSTART;TZID=UTC:20200808T083000
DTEND;TZID=UTC:20200809T163000
DTSTAMP:20260425T110204
CREATED:20200714T204631Z
LAST-MODIFIED:20200804T171942Z
UID:3347-1596875400-1596990600@www.sccpr.com
SUMMARY:BLS Provider (C) / Standard First Aid / AED
DESCRIPTION:This course is a 16-hour\, 2-day certification course in CPR – BLS (Basic Life Support) Provider/Standard First Aid/AED (Automated External Defibrillator). CPR/AED are both a 1-year certification\, and Standard First Aid are a 3-year certification. Due to COVID-19\, class space is limited and you must call to register to pay for the course ahead of time. \n  \n****REGISTRATION FOR THIS COURSE IS NOW CLOSED****
URL:https://www.sccpr.com/event/bls-provider-c-standard-first-aid-aed-2/
LOCATION:Second Chance CPR Office\, 871 Janette Avenue\, Windsor\, Ontario\, N9A5A2\, Canada
CATEGORIES:Public
END:VEVENT
BEGIN:VEVENT
DTSTART;TZID=UTC:20200811T160000
DTEND;TZID=UTC:20200811T200000
DTSTAMP:20260425T110204
CREATED:20200729T184252Z
LAST-MODIFIED:20200806T155806Z
UID:3698-1597161600-1597176000@www.sccpr.com
SUMMARY:BLS Provider (C) / AED
DESCRIPTION:The BLS for Healthcare Provider (C) course skills taught are 1- and 2-rescuer adult\, child and infant CPR\, choking\, automated external defibrillator (AED) training and the use of bag valve mask (BVM). The course is designed for healthcare providers who need a credentialed course and is also open to first responders who have a duty to respond to a cardiac emergency because of job responsibilities or regulatory requirements. \n*** PLEASE NOTE: Due to COVID-19\, class space is limited. Filling out the registration form does not automatically enroll you. You must call to guarantee registration or fill out the form below to receive a call back. \n  \n****REGISTRATION FOR THIS COURSE IS NOW CLOSED****
URL:https://www.sccpr.com/event/bls-provider-c-aed-25/
LOCATION:Second Chance CPR Office\, 871 Janette Avenue\, Windsor\, Ontario\, N9A5A2\, Canada
CATEGORIES:Public
END:VEVENT
BEGIN:VEVENT
DTSTART;TZID=UTC:20200812T083000
DTEND;TZID=UTC:20200812T123000
DTSTAMP:20260425T110204
CREATED:20200715T195218Z
LAST-MODIFIED:20200810T204047Z
UID:3398-1597221000-1597235400@www.sccpr.com
SUMMARY:BLS Provider (C) / AED
DESCRIPTION:The BLS for Healthcare Provider (C) course skills taught are 1- and 2-rescuer adult\, child and infant CPR\, choking\, automated external defibrillator (AED) training and the use of bag valve mask (BVM). The course is designed for healthcare providers who need a credentialed course and is also open to first responders who have a duty to respond to a cardiac emergency because of job responsibilities or regulatory requirements. \n*** PLEASE NOTE: Due to COVID-19\, class space is limited. Filling out the registration form does not automatically enroll you. You must call to guarantee registration or fill out the form below to receive a call back. \n  \n****REGISTRATION FOR THIS COURSE IS NOW CLOSED****
URL:https://www.sccpr.com/event/bls-provider-c-aed-5/
LOCATION:Second Chance CPR Office\, 871 Janette Avenue\, Windsor\, Ontario\, N9A5A2\, Canada
CATEGORIES:Public
END:VEVENT
BEGIN:VEVENT
DTSTART;TZID=UTC:20200812T130000
DTEND;TZID=UTC:20200812T170000
DTSTAMP:20260425T110204
CREATED:20200715T195330Z
LAST-MODIFIED:20200715T195342Z
UID:3400-1597237200-1597251600@www.sccpr.com
SUMMARY:BLS Provider (C) / AED
DESCRIPTION:The BLS for Healthcare Provider (C) course skills taught are 1- and 2-rescuer adult\, child and infant CPR\, choking\, automated external defibrillator (AED) training and the use of bag valve mask (BVM). The course is designed for healthcare providers who need a credentialed course and is also open to first responders who have a duty to respond to a cardiac emergency because of job responsibilities or regulatory requirements. \n*** PLEASE NOTE: Due to COVID-19\, class space is limited. Filling out the registration form does not automatically enroll you. You must call to guarantee registration or fill out the form below to receive a call back.
URL:https://www.sccpr.com/event/bls-provider-c-aed-6/
LOCATION:Second Chance CPR Office\, 871 Janette Avenue\, Windsor\, Ontario\, N9A5A2\, Canada
CATEGORIES:Public
END:VEVENT
BEGIN:VEVENT
DTSTART;TZID=UTC:20200815T130000
DTEND;TZID=UTC:20200815T170000
DTSTAMP:20260425T110204
CREATED:20200715T195642Z
LAST-MODIFIED:20200812T184620Z
UID:3406-1597496400-1597510800@www.sccpr.com
SUMMARY:BLS Provider (C) / AED
DESCRIPTION:The BLS for Healthcare Provider (C) course skills taught are 1- and 2-rescuer adult\, child and infant CPR\, choking\, automated external defibrillator (AED) training and the use of bag valve mask (BVM). The course is designed for healthcare providers who need a credentialed course and is also open to first responders who have a duty to respond to a cardiac emergency because of job responsibilities or regulatory requirements. \n*** PLEASE NOTE: Due to COVID-19\, class space is limited. Filling out the registration form does not automatically enroll you. You must call to guarantee registration or fill out the form below to receive a call back. \n  \n****REGISTRATION FOR THIS COURSE IS NOW CLOSED****
URL:https://www.sccpr.com/event/bls-provider-c-aed-9/
LOCATION:Second Chance CPR Office\, 871 Janette Avenue\, Windsor\, Ontario\, N9A5A2\, Canada
CATEGORIES:Public
END:VEVENT
BEGIN:VEVENT
DTSTART;TZID=UTC:20200819T083000
DTEND;TZID=UTC:20200819T123000
DTSTAMP:20260425T110204
CREATED:20200715T195858Z
LAST-MODIFIED:20200804T173048Z
UID:3410-1597825800-1597840200@www.sccpr.com
SUMMARY:BLS Provider (C) / AED
DESCRIPTION:The BLS for Healthcare Provider (C) course skills taught are 1- and 2-rescuer adult\, child and infant CPR\, choking\, automated external defibrillator (AED) training and the use of bag valve mask (BVM). The course is designed for healthcare providers who need a credentialed course and is also open to first responders who have a duty to respond to a cardiac emergency because of job responsibilities or regulatory requirements. \n*** PLEASE NOTE: Due to COVID-19\, class space is limited. Filling out the registration form does not automatically enroll you. You must call to guarantee registration or fill out the form below to receive a call back. \n  \n****REGISTRATION FOR THIS COURSE IS NOW CLOSED****
URL:https://www.sccpr.com/event/bls-provider-c-aed-11/
LOCATION:Second Chance CPR Office\, 871 Janette Avenue\, Windsor\, Ontario\, N9A5A2\, Canada
CATEGORIES:Public
END:VEVENT
BEGIN:VEVENT
DTSTART;TZID=UTC:20200819T130000
DTEND;TZID=UTC:20200819T170000
DTSTAMP:20260425T110204
CREATED:20200715T195731Z
LAST-MODIFIED:20200715T195816Z
UID:3408-1597842000-1597856400@www.sccpr.com
SUMMARY:BLS Provider (C) / AED
DESCRIPTION:The BLS for Healthcare Provider (C) course skills taught are 1- and 2-rescuer adult\, child and infant CPR\, choking\, automated external defibrillator (AED) training and the use of bag valve mask (BVM). The course is designed for healthcare providers who need a credentialed course and is also open to first responders who have a duty to respond to a cardiac emergency because of job responsibilities or regulatory requirements. \n*** PLEASE NOTE: Due to COVID-19\, class space is limited. Filling out the registration form does not automatically enroll you. You must call to guarantee registration or fill out the form below to receive a call back.
URL:https://www.sccpr.com/event/bls-provider-c-aed-10/
LOCATION:Second Chance CPR Office\, 871 Janette Avenue\, Windsor\, Ontario\, N9A5A2\, Canada
CATEGORIES:Public
END:VEVENT
BEGIN:VEVENT
DTSTART;TZID=UTC:20200827T083000
DTEND;TZID=UTC:20200827T123000
DTSTAMP:20260425T110204
CREATED:20200715T200034Z
LAST-MODIFIED:20200821T125228Z
UID:3412-1598517000-1598531400@www.sccpr.com
SUMMARY:BLS Provider (C) / AED
DESCRIPTION:The BLS for Healthcare Provider (C) course skills taught are 1- and 2-rescuer adult\, child and infant CPR\, choking\, automated external defibrillator (AED) training and the use of bag valve mask (BVM). The course is designed for healthcare providers who need a credentialed course and is also open to first responders who have a duty to respond to a cardiac emergency because of job responsibilities or regulatory requirements. \n*** PLEASE NOTE: Due to COVID-19\, class space is limited. Filling out the registration form does not automatically enroll you. You must call to guarantee registration or fill out the form below to receive a call back. \n  \n****REGISTRATION FOR THIS COURSE IS NOW CLOSED****
URL:https://www.sccpr.com/event/bls-provider-c-aed-12/
LOCATION:Second Chance CPR Office\, 871 Janette Avenue\, Windsor\, Ontario\, N9A5A2\, Canada
CATEGORIES:Public
END:VEVENT
BEGIN:VEVENT
DTSTART;TZID=UTC:20200828T083000
DTEND;TZID=UTC:20200828T120000
DTSTAMP:20260425T110204
CREATED:20200715T200459Z
LAST-MODIFIED:20200715T200459Z
UID:3416-1598603400-1598616000@www.sccpr.com
SUMMARY:BLS Provider (C) / AED
DESCRIPTION:The BLS for Healthcare Provider (C) course skills taught are 1- and 2-rescuer adult\, child and infant CPR\, choking\, automated external defibrillator (AED) training and the use of bag valve mask (BVM). The course is designed for healthcare providers who need a credentialed course and is also open to first responders who have a duty to respond to a cardiac emergency because of job responsibilities or regulatory requirements. \n*** PLEASE NOTE: Due to COVID-19\, class space is limited. Filling out the registration form does not automatically enroll you. You must call to guarantee registration or fill out the form below to receive a call back.
URL:https://www.sccpr.com/event/bls-provider-c-aed-14/
LOCATION:Second Chance CPR Office\, 871 Janette Avenue\, Windsor\, Ontario\, N9A5A2\, Canada
CATEGORIES:Public
END:VEVENT
BEGIN:VEVENT
DTSTART;TZID=UTC:20200828T130000
DTEND;TZID=UTC:20200828T170000
DTSTAMP:20260425T110205
CREATED:20200715T200743Z
LAST-MODIFIED:20200715T200743Z
UID:3418-1598619600-1598634000@www.sccpr.com
SUMMARY:BLS Provider (C) / AED
DESCRIPTION:The BLS for Healthcare Provider (C) course skills taught are 1- and 2-rescuer adult\, child and infant CPR\, choking\, automated external defibrillator (AED) training and the use of bag valve mask (BVM). The course is designed for healthcare providers who need a credentialed course and is also open to first responders who have a duty to respond to a cardiac emergency because of job responsibilities or regulatory requirements. \n*** PLEASE NOTE: Due to COVID-19\, class space is limited. Filling out the registration form does not automatically enroll you. You must call to guarantee registration or fill out the form below to receive a call back.
URL:https://www.sccpr.com/event/bls-provider-c-aed-15/
LOCATION:Second Chance CPR Office\, 871 Janette Avenue\, Windsor\, Ontario\, N9A5A2\, Canada
CATEGORIES:Public
END:VEVENT
BEGIN:VEVENT
DTSTART;TZID=UTC:20200831T083000
DTEND;TZID=UTC:20200831T123000
DTSTAMP:20260425T110205
CREATED:20200715T200822Z
LAST-MODIFIED:20201106T170019Z
UID:3420-1598862600-1598877000@www.sccpr.com
SUMMARY:BLS Provider (C) / AED
DESCRIPTION:The BLS for Healthcare Provider (C) course skills taught are 1- and 2-rescuer adult\, child and infant CPR\, choking\, automated external defibrillator (AED) training and the use of bag valve mask (BVM). The course is designed for healthcare providers who need a credentialed course and is also open to first responders who have a duty to respond to a cardiac emergency because of job responsibilities or regulatory requirements. \n*** PLEASE NOTE: Due to COVID-19\, class space is limited. Filling out the registration form does not automatically enrol you. You must call to guarantee registration or fill out the form below to receive a call back.
URL:https://www.sccpr.com/event/bls-provider-c-aed-16/
LOCATION:Second Chance CPR Office\, 871 Janette Avenue\, Windsor\, Ontario\, N9A5A2\, Canada
CATEGORIES:Public
END:VEVENT
END:VCALENDAR