BEGIN:VCALENDAR
VERSION:2.0
PRODID:-//SCCPR - ECPv6.15.1.1//NONSGML v1.0//EN
CALSCALE:GREGORIAN
METHOD:PUBLISH
X-WR-CALNAME:SCCPR
X-ORIGINAL-URL:https://www.sccpr.com
X-WR-CALDESC:Events for SCCPR
REFRESH-INTERVAL;VALUE=DURATION:PT1H
X-Robots-Tag:noindex
X-PUBLISHED-TTL:PT1H
BEGIN:VTIMEZONE
TZID:UTC
BEGIN:STANDARD
TZOFFSETFROM:+0000
TZOFFSETTO:+0000
TZNAME:UTC
DTSTART:20230101T000000
END:STANDARD
END:VTIMEZONE
BEGIN:VEVENT
DTSTART;TZID=UTC:20230204T083000
DTEND;TZID=UTC:20230205T163000
DTSTAMP:20260422T192948
CREATED:20230118T152359Z
LAST-MODIFIED:20230130T215201Z
UID:41886-1675499400-1675614600@www.sccpr.com
SUMMARY:Standard First Aid/CPR/AED
DESCRIPTION:This course is a 16-hour\, 2-day certification course in CPR – BLS (Basic Life Support) Provider/Standard First Aid/AED (Automated External Defibrillator). CPR/AED are both a 1-year certification\, and Standard First Aid are a 3-year certification. This course teaches the participant how to approach and manage medical emergencies and provide care to the patient until EMS arrives. This course is required for workplaces employing six or more workers in any one shift at a work area or those interested in gaining enhanced first aid knowledge and skills as required by the Workplace Safety and Insurance Board under which Second Chance CPR is an approved provider for First Aid programs (WSIB Reg. 1101). \nCourses Include following topics: \nBleeding and Wound Management Muscular/Skeletal Emergencies\nHead & Spinal Emergencies Respiratory Emergencies\nCommunicable Diseases Burns\nSeizures Circulation\nDiabetic Emergencies Poisoning\nTriage Airway\nBreathing\nRescue Breathing CPR Skills Heart Attack & Stroke Choking (conscious/unconscious) \n**Prepayment must be made for this course. Please call to register – 519-977-7017** \n**COURSE IS CLOSED TO REGISTRATION**
URL:https://www.sccpr.com/event/standard-first-aid-cpr-aed-43/
LOCATION:Second Chance CPR Office\, 871 Janette Avenue\, Windsor\, Ontario\, N9A5A2\, Canada
CATEGORIES:Public
END:VEVENT
BEGIN:VEVENT
DTSTART;TZID=UTC:20230211T083000
DTEND;TZID=UTC:20230212T163000
DTSTAMP:20260422T192948
CREATED:20230228T172239Z
LAST-MODIFIED:20230228T172239Z
UID:43299-1676104200-1676219400@www.sccpr.com
SUMMARY:Standard First Aid/CPR/AED
DESCRIPTION:This course is a 16-hour\, 2-day certification course in CPR – BLS (Basic Life Support) Provider/Standard First Aid/AED (Automated External Defibrillator). CPR/AED are both a 1-year certification\, and Standard First Aid are a 3-year certification. This course teaches the participant how to approach and manage medical emergencies and provide care to the patient until EMS arrives. This course is required for workplaces employing six or more workers in any one shift at a work area or those interested in gaining enhanced first aid knowledge and skills as required by the Workplace Safety and Insurance Board under which Second Chance CPR is an approved provider for First Aid programs (WSIB Reg. 1101). \nCourses Include following topics: \nBleeding and Wound Management Muscular/Skeletal Emergencies\nHead & Spinal Emergencies Respiratory Emergencies\nCommunicable Diseases Burns\nSeizures Circulation\nDiabetic Emergencies Poisoning\nTriage Airway\nBreathing\nRescue Breathing CPR Skills Heart Attack & Stroke Choking (conscious/unconscious) \n**Prepayment must be made for this course. Please call to register – 519-977-7017**
URL:https://www.sccpr.com/event/standard-first-aid-cpr-aed-45/
LOCATION:Second Chance CPR Office\, 871 Janette Avenue\, Windsor\, Ontario\, N9A5A2\, Canada
CATEGORIES:Public
END:VEVENT
END:VCALENDAR