BEGIN:VCALENDAR
VERSION:2.0
PRODID:-//SCCPR - ECPv6.15.1.1//NONSGML v1.0//EN
CALSCALE:GREGORIAN
METHOD:PUBLISH
X-WR-CALNAME:SCCPR
X-ORIGINAL-URL:https://www.sccpr.com
X-WR-CALDESC:Events for SCCPR
REFRESH-INTERVAL;VALUE=DURATION:PT1H
X-Robots-Tag:noindex
X-PUBLISHED-TTL:PT1H
BEGIN:VTIMEZONE
TZID:UTC
BEGIN:STANDARD
TZOFFSETFROM:+0000
TZOFFSETTO:+0000
TZNAME:UTC
DTSTART:20230101T000000
END:STANDARD
END:VTIMEZONE
BEGIN:VEVENT
DTSTART;TZID=UTC:20230401T083000
DTEND;TZID=UTC:20230402T163000
DTSTAMP:20260422T155700
CREATED:20230308T194622Z
LAST-MODIFIED:20230323T170126Z
UID:43559-1680337800-1680453000@www.sccpr.com
SUMMARY:Standard First Aid/CPR/AED
DESCRIPTION:This course is a 16-hour\, 2-day certification course in CPR – BLS (Basic Life Support) Provider/Standard First Aid/AED (Automated External Defibrillator). CPR/AED are both a 1-year certification\, and Standard First Aid are a 3-year certification. This course teaches the participant how to approach and manage medical emergencies and provide care to the patient until EMS arrives. This course is required for workplaces employing six or more workers in any one shift at a work area or those interested in gaining enhanced first aid knowledge and skills as required by the Workplace Safety and Insurance Board under which Second Chance CPR is an approved provider for First Aid programs (WSIB Reg. 1101). \nCourses Include following topics: \nBleeding and Wound Management Muscular/Skeletal Emergencies\nHead & Spinal Emergencies Respiratory Emergencies\nCommunicable Diseases Burns\nSeizures Circulation\nDiabetic Emergencies Poisoning\nTriage Airway\nBreathing\nRescue Breathing CPR Skills Heart Attack & Stroke Choking (conscious/unconscious) \n**Prepayment must be made for this course. Please call to register – 519-977-7017** \n***COURSE IS CLOSED FOR REGISTRATION***
URL:https://www.sccpr.com/event/standard-first-aid-cpr-aed-48/
LOCATION:Second Chance CPR Office\, 871 Janette Avenue\, Windsor\, Ontario\, N9A5A2\, Canada
CATEGORIES:Public
END:VEVENT
BEGIN:VEVENT
DTSTART;TZID=UTC:20230415T083000
DTEND;TZID=UTC:20230416T163000
DTSTAMP:20260422T155700
CREATED:20230308T194742Z
LAST-MODIFIED:20230331T190258Z
UID:43561-1681547400-1681662600@www.sccpr.com
SUMMARY:Standard First Aid/CPR/AED
DESCRIPTION:This course is a 16-hour\, 2-day certification course in CPR – BLS (Basic Life Support) Provider/Standard First Aid/AED (Automated External Defibrillator). CPR/AED are both a 1-year certification\, and Standard First Aid are a 3-year certification. This course teaches the participant how to approach and manage medical emergencies and provide care to the patient until EMS arrives. This course is required for workplaces employing six or more workers in any one shift at a work area or those interested in gaining enhanced first aid knowledge and skills as required by the Workplace Safety and Insurance Board under which Second Chance CPR is an approved provider for First Aid programs (WSIB Reg. 1101). \nCourses Include following topics: \nBleeding and Wound Management Muscular/Skeletal Emergencies\nHead & Spinal Emergencies Respiratory Emergencies\nCommunicable Diseases Burns\nSeizures Circulation\nDiabetic Emergencies Poisoning\nTriage Airway\nBreathing\nRescue Breathing CPR Skills Heart Attack & Stroke Choking (conscious/unconscious) \n***COURSE IS CLOSED FOR REGISTRATION***
URL:https://www.sccpr.com/event/standard-first-aid-cpr-aed-49/
LOCATION:Second Chance CPR Office\, 871 Janette Avenue\, Windsor\, Ontario\, N9A5A2\, Canada
CATEGORIES:Public
END:VEVENT
BEGIN:VEVENT
DTSTART;TZID=UTC:20230420T083000
DTEND;TZID=UTC:20230421T163000
DTSTAMP:20260422T155700
CREATED:20230308T194516Z
LAST-MODIFIED:20230315T192556Z
UID:43556-1681979400-1682094600@www.sccpr.com
SUMMARY:Standard First Aid/CPR/AED
DESCRIPTION:This course is a 16-hour\, 2-day certification course in CPR – BLS (Basic Life Support) Provider/Standard First Aid/AED (Automated External Defibrillator). CPR/AED are both a 1-year certification\, and Standard First Aid are a 3-year certification. This course teaches the participant how to approach and manage medical emergencies and provide care to the patient until EMS arrives. This course is required for workplaces employing six or more workers in any one shift at a work area or those interested in gaining enhanced first aid knowledge and skills as required by the Workplace Safety and Insurance Board under which Second Chance CPR is an approved provider for First Aid programs (WSIB Reg. 1101). \nCourses Include following topics: \nBleeding and Wound Management Muscular/Skeletal Emergencies\nHead & Spinal Emergencies Respiratory Emergencies\nCommunicable Diseases Burns\nSeizures Circulation\nDiabetic Emergencies Poisoning\nTriage Airway\nBreathing\nRescue Breathing CPR Skills Heart Attack & Stroke Choking (conscious/unconscious) \n**Prepayment must be made for this course. Please call to register – 519-977-7017**
URL:https://www.sccpr.com/event/standard-first-aid-cpr-aed-47/
LOCATION:Second Chance CPR Office\, 871 Janette Avenue\, Windsor\, Ontario\, N9A5A2\, Canada
CATEGORIES:Public
END:VEVENT
BEGIN:VEVENT
DTSTART;TZID=UTC:20230420T180000
DTEND;TZID=UTC:20230420T220000
DTSTAMP:20260422T155700
CREATED:20230414T184051Z
LAST-MODIFIED:20230414T184051Z
UID:44663-1682013600-1682028000@www.sccpr.com
SUMMARY:CPR: BLS Provider (C) / AED
DESCRIPTION:The BLS for Healthcare Provider (C) course skills taught are 1- and 2-rescuer adult\, child and infant CPR\, choking\, automated external defibrillator (AED) training and the use of bag valve mask (BVM). The course is designed for healthcare providers who need a credentialed course and is also open to first responders who have a duty to respond to a cardiac emergency because of job responsibilities or regulatory requirements. \n*** PLEASE NOTE: Filling out the registration form does not automatically enroll you. You must call to guarantee registration or wait for an email confirmation notifying you that your spot is reserved.
URL:https://www.sccpr.com/event/cpr-bls-provider-c-aed-69/
LOCATION:Second Chance CPR Office\, 871 Janette Avenue\, Windsor\, Ontario\, N9A5A2\, Canada
CATEGORIES:Public
END:VEVENT
BEGIN:VEVENT
DTSTART;TZID=UTC:20230429T083000
DTEND;TZID=UTC:20230430T163000
DTSTAMP:20260422T155700
CREATED:20230425T144629Z
LAST-MODIFIED:20230425T144629Z
UID:44908-1682757000-1682872200@www.sccpr.com
SUMMARY:Standard First Aid/CPR/AED
DESCRIPTION:This course is a 16-hour\, 2-day certification course in CPR – BLS (Basic Life Support) Provider/Standard First Aid/AED (Automated External Defibrillator). CPR/AED are both a 1-year certification\, and Standard First Aid are a 3-year certification. This course teaches the participant how to approach and manage medical emergencies and provide care to the patient until EMS arrives. This course is required for workplaces employing six or more workers in any one shift at a work area or those interested in gaining enhanced first aid knowledge and skills as required by the Workplace Safety and Insurance Board under which Second Chance CPR is an approved provider for First Aid programs (WSIB Reg. 1101). \nCourses Include following topics: \nBleeding and Wound Management Muscular/Skeletal Emergencies\nHead & Spinal Emergencies Respiratory Emergencies\nCommunicable Diseases Burns\nSeizures Circulation\nDiabetic Emergencies Poisoning\nTriage Airway\nBreathing\nRescue Breathing CPR Skills Heart Attack & Stroke Choking (conscious/unconscious) \n**Prepayment must be made for this course. Please call to register – 519-977-7017**
URL:https://www.sccpr.com/event/standard-first-aid-cpr-aed-52/
LOCATION:Second Chance CPR Office\, 871 Janette Avenue\, Windsor\, Ontario\, N9A5A2\, Canada
CATEGORIES:Public
END:VEVENT
END:VCALENDAR