BEGIN:VCALENDAR
VERSION:2.0
PRODID:-//SCCPR - ECPv6.15.1.1//NONSGML v1.0//EN
CALSCALE:GREGORIAN
METHOD:PUBLISH
X-WR-CALNAME:SCCPR
X-ORIGINAL-URL:https://www.sccpr.com
X-WR-CALDESC:Events for SCCPR
REFRESH-INTERVAL;VALUE=DURATION:PT1H
X-Robots-Tag:noindex
X-PUBLISHED-TTL:PT1H
BEGIN:VTIMEZONE
TZID:UTC
BEGIN:STANDARD
TZOFFSETFROM:+0000
TZOFFSETTO:+0000
TZNAME:UTC
DTSTART:20240101T000000
END:STANDARD
END:VTIMEZONE
BEGIN:VEVENT
DTSTART;TZID=UTC:20240604T180000
DTEND;TZID=UTC:20240604T220000
DTSTAMP:20260421T152358
CREATED:20240517T191922Z
LAST-MODIFIED:20240529T161818Z
UID:54991-1717524000-1717538400@www.sccpr.com
SUMMARY:CPR: BLS Provider (C) / AED
DESCRIPTION:The BLS for Healthcare Provider (C) course skills taught are 1- and 2-rescuer adult\, child and infant CPR\, choking\, automated external defibrillator (AED) training and the use of bag valve mask (BVM). The course is designed for healthcare providers who need a credentialed course and is also open to first responders who have a duty to respond to a cardiac emergency because of job responsibilities or regulatory requirements. \n*** COURSE CLOSED FOR REGISTRATION ***
URL:https://www.sccpr.com/event/cpr-bls-provider-c-aed-130/
LOCATION:Second Chance CPR Office\, 871 Janette Avenue\, Windsor\, Ontario\, N9A5A2\, Canada
CATEGORIES:Public
END:VEVENT
BEGIN:VEVENT
DTSTART;TZID=UTC:20240608T083000
DTEND;TZID=UTC:20240609T163000
DTSTAMP:20260421T152358
CREATED:20240517T154110Z
LAST-MODIFIED:20240517T154351Z
UID:54969-1717835400-1717950600@www.sccpr.com
SUMMARY:Standard First Aid/BLS CPR/AED
DESCRIPTION:This course is a 16-hour\, 2-day certification course in CPR – BLS (Basic Life Support) Provider/Standard First Aid/AED (Automated External Defibrillator). Course runs 8:30-4:30pm both days. \nCPR/AED are both a 1-year certification\, and Standard First Aid is a 3-year certification. This course teaches the participant how to approach and manage medical emergencies and provide care to the patient until EMS arrives. This course is required for workplaces employing six or more workers in any one shift at a work area or those interested in gaining enhanced first aid knowledge and skills as required by the Workplace Safety and Insurance Board under which Second Chance CPR is an approved provider for First Aid programs (WSIB Reg. 1101). \nCourses include following topics: \nHeart Attack & Stroke Choking  (conscious/unconscious)\nRescue Breathing CPR Skills\nBleeding and Wound Care\nMuscular/Skeletal Emergencies\nHead & Spinal Emergencies\nCommunicable Diseases\nRespiratory Emergencies\nDiabetic Emergencies\nBurns\nPoisoning\nSeizures\nTriage\nDefibrillation\nAirway Emergencies\nBites and Stings\nBreathing\nCirculation Issues
URL:https://www.sccpr.com/event/54969/
LOCATION:Second Chance CPR Office\, 871 Janette Avenue\, Windsor\, Ontario\, N9A5A2\, Canada
CATEGORIES:Public
END:VEVENT
BEGIN:VEVENT
DTSTART;TZID=UTC:20240611T180000
DTEND;TZID=UTC:20240611T220000
DTSTAMP:20260421T152358
CREATED:20240529T151404Z
LAST-MODIFIED:20240604T173843Z
UID:55295-1718128800-1718143200@www.sccpr.com
SUMMARY:CPR: BLS Provider (C) / AED
DESCRIPTION:The BLS for Healthcare Provider (C) course skills taught are 1- and 2-rescuer adult\, child and infant CPR\, choking\, automated external defibrillator (AED) training and the use of bag valve mask (BVM). The course is designed for healthcare providers who need a credentialed course and is also open to first responders who have a duty to respond to a cardiac emergency because of job responsibilities or regulatory requirements. \n  \n*** COURSE IS CLOSED FOR REGISTRATION ***
URL:https://www.sccpr.com/event/cpr-bls-provider-c-aed-131/
LOCATION:Second Chance CPR Office\, 871 Janette Avenue\, Windsor\, Ontario\, N9A5A2\, Canada
CATEGORIES:Public
END:VEVENT
BEGIN:VEVENT
DTSTART;TZID=UTC:20240613T083000
DTEND;TZID=UTC:20240614T163000
DTSTAMP:20260421T152359
CREATED:20240517T170043Z
LAST-MODIFIED:20240517T170043Z
UID:54981-1718267400-1718382600@www.sccpr.com
SUMMARY:Standard First Aid/BLS CPR/AED
DESCRIPTION:This course is a 16-hour\, 2-day certification course in CPR – BLS (Basic Life Support) Provider/Standard First Aid/AED (Automated External Defibrillator). Course runs 8:30-4:30pm both days. \nCPR/AED are both a 1-year certification\, and Standard First Aid is a 3-year certification. This course teaches the participant how to approach and manage medical emergencies and provide care to the patient until EMS arrives. This course is required for workplaces employing six or more workers in any one shift at a work area or those interested in gaining enhanced first aid knowledge and skills as required by the Workplace Safety and Insurance Board under which Second Chance CPR is an approved provider for First Aid programs (WSIB Reg. 1101). \nCourses include following topics: \nHeart Attack & Stroke Choking  (conscious/unconscious)\nRescue Breathing CPR Skills\nBleeding and Wound Care\nMuscular/Skeletal Emergencies\nHead & Spinal Emergencies\nCommunicable Diseases\nRespiratory Emergencies\nDiabetic Emergencies\nBurns\nPoisoning\nSeizures\nTriage\nDefibrillation\nAirway Emergencies\nBites and Stings\nBreathing\nCirculation Issues
URL:https://www.sccpr.com/event/standard-first-aid-bls-cpr-aed-39/
LOCATION:Second Chance CPR Office\, 871 Janette Avenue\, Windsor\, Ontario\, N9A5A2\, Canada
CATEGORIES:Public
END:VEVENT
BEGIN:VEVENT
DTSTART;TZID=UTC:20240620T083000
DTEND;TZID=UTC:20240620T123000
DTSTAMP:20260421T152359
CREATED:20240605T192843Z
LAST-MODIFIED:20240617T132202Z
UID:55497-1718872200-1718886600@www.sccpr.com
SUMMARY:CPR: BLS Provider (C) / AED
DESCRIPTION:The BLS for Healthcare Provider (C) course skills taught are 1- and 2-rescuer adult\, child and infant CPR\, choking\, automated external defibrillator (AED) training and the use of bag valve mask (BVM). The course is designed for healthcare providers who need a credentialed course and is also open to first responders who have a duty to respond to a cardiac emergency because of job responsibilities or regulatory requirements. \n**** COURSE IS CLOSED FOR REGISTRATION ****
URL:https://www.sccpr.com/event/cpr-bls-provider-c-aed-133/
LOCATION:Second Chance CPR Office\, 871 Janette Avenue\, Windsor\, Ontario\, N9A5A2\, Canada
CATEGORIES:Public
END:VEVENT
BEGIN:VEVENT
DTSTART;TZID=UTC:20240621T083000
DTEND;TZID=UTC:20240621T163000
DTSTAMP:20260421T152359
CREATED:20240529T153450Z
LAST-MODIFIED:20240619T132512Z
UID:55301-1718958600-1718987400@www.sccpr.com
SUMMARY:Emergency First Aid/BLS CPR/AED
DESCRIPTION:This course teachers an emergency approach on how to manage medical emergencies and render aid until professional help arrives. This course is required for workplaces employing not more than five workers in any one shift at a work area or those interested in gaining first aid knowledge and skills. (WSIB Reg. 1101) This course covers compulsory topics of the Standard First Aid Course. \nCourse includes following topics: \n\nBleeding and Wound Care\nHead & Spinal Emergencies\nRespiratory Emergencies\nCommunicable Diseases\nBurns\nDefibrillation\nAirway\nBreathing\nCirculation\nRescue Breathing-CPR Skills\nHeart Attack & Stroke Choking (conscious/unconscious)\n\n**** COURSE IS CLOSED FOR REGISTRATION***
URL:https://www.sccpr.com/event/emergency-first-aid-bls-cpr-aed/
LOCATION:Second Chance CPR Office\, 871 Janette Avenue\, Windsor\, Ontario\, N9A5A2\, Canada
CATEGORIES:Public
END:VEVENT
BEGIN:VEVENT
DTSTART;TZID=UTC:20240622T083000
DTEND;TZID=UTC:20240623T163000
DTSTAMP:20260421T152359
CREATED:20240517T165930Z
LAST-MODIFIED:20240517T165930Z
UID:54979-1719045000-1719160200@www.sccpr.com
SUMMARY:Standard First Aid/BLS CPR/AED
DESCRIPTION:This course is a 16-hour\, 2-day certification course in CPR – BLS (Basic Life Support) Provider/Standard First Aid/AED (Automated External Defibrillator). Course runs 8:30-4:30pm both days. \nCPR/AED are both a 1-year certification\, and Standard First Aid is a 3-year certification. This course teaches the participant how to approach and manage medical emergencies and provide care to the patient until EMS arrives. This course is required for workplaces employing six or more workers in any one shift at a work area or those interested in gaining enhanced first aid knowledge and skills as required by the Workplace Safety and Insurance Board under which Second Chance CPR is an approved provider for First Aid programs (WSIB Reg. 1101). \nCourses include following topics: \nHeart Attack & Stroke Choking  (conscious/unconscious)\nRescue Breathing CPR Skills\nBleeding and Wound Care\nMuscular/Skeletal Emergencies\nHead & Spinal Emergencies\nCommunicable Diseases\nRespiratory Emergencies\nDiabetic Emergencies\nBurns\nPoisoning\nSeizures\nTriage\nDefibrillation\nAirway Emergencies\nBites and Stings\nBreathing\nCirculation Issues
URL:https://www.sccpr.com/event/standard-first-aid-bls-cpr-aed-38/
LOCATION:Second Chance CPR Office\, 871 Janette Avenue\, Windsor\, Ontario\, N9A5A2\, Canada
CATEGORIES:Public
END:VEVENT
BEGIN:VEVENT
DTSTART;TZID=UTC:20240624T083000
DTEND;TZID=UTC:20240624T123000
DTSTAMP:20260421T152359
CREATED:20240614T164301Z
LAST-MODIFIED:20240619T201255Z
UID:55703-1719217800-1719232200@www.sccpr.com
SUMMARY:CPR: BLS Provider (C) / AED
DESCRIPTION:The BLS for Healthcare Provider (C) course skills taught are 1- and 2-rescuer adult\, child and infant CPR\, choking\, automated external defibrillator (AED) training and the use of bag valve mask (BVM). The course is designed for healthcare providers who need a credentialed course and is also open to first responders who have a duty to respond to a cardiac emergency because of job responsibilities or regulatory requirements. \n*** COURSE IS CLOSED FOR REGISTRATION ***
URL:https://www.sccpr.com/event/cpr-bls-provider-c-aed-134/
LOCATION:Second Chance CPR Office\, 871 Janette Avenue\, Windsor\, Ontario\, N9A5A2\, Canada
CATEGORIES:Public
END:VEVENT
BEGIN:VEVENT
DTSTART;TZID=UTC:20240625T083000
DTEND;TZID=UTC:20240626T163000
DTSTAMP:20260421T152359
CREATED:20240517T171605Z
LAST-MODIFIED:20240517T171605Z
UID:54983-1719304200-1719419400@www.sccpr.com
SUMMARY:Standard First Aid/BLS CPR/AED
DESCRIPTION:This course is a 16-hour\, 2-day certification course in CPR – BLS (Basic Life Support) Provider/Standard First Aid/AED (Automated External Defibrillator). Course runs 8:30-4:30pm both days. \nCPR/AED are both a 1-year certification\, and Standard First Aid is a 3-year certification. This course teaches the participant how to approach and manage medical emergencies and provide care to the patient until EMS arrives. This course is required for workplaces employing six or more workers in any one shift at a work area or those interested in gaining enhanced first aid knowledge and skills as required by the Workplace Safety and Insurance Board under which Second Chance CPR is an approved provider for First Aid programs (WSIB Reg. 1101). \nCourses include following topics: \nHeart Attack & Stroke Choking  (conscious/unconscious)\nRescue Breathing CPR Skills\nBleeding and Wound Care\nMuscular/Skeletal Emergencies\nHead & Spinal Emergencies\nCommunicable Diseases\nRespiratory Emergencies\nDiabetic Emergencies\nBurns\nPoisoning\nSeizures\nTriage\nDefibrillation\nAirway Emergencies\nBites and Stings\nBreathing\nCirculation Issues
URL:https://www.sccpr.com/event/standard-first-aid-bls-cpr-aed-40/
LOCATION:Second Chance CPR Office\, 871 Janette Avenue\, Windsor\, Ontario\, N9A5A2\, Canada
CATEGORIES:Public
END:VEVENT
BEGIN:VEVENT
DTSTART;TZID=UTC:20240625T180000
DTEND;TZID=UTC:20240625T220000
DTSTAMP:20260421T152359
CREATED:20240529T151814Z
LAST-MODIFIED:20240617T131527Z
UID:55297-1719338400-1719352800@www.sccpr.com
SUMMARY:CPR: BLS Provider (C) / AED
DESCRIPTION:The BLS for Healthcare Provider (C) course skills taught are 1- and 2-rescuer adult\, child and infant CPR\, choking\, automated external defibrillator (AED) training and the use of bag valve mask (BVM). The course is designed for healthcare providers who need a credentialed course and is also open to first responders who have a duty to respond to a cardiac emergency because of job responsibilities or regulatory requirements. \n***COURSE IS CLOSED FOR REGISTRATION***
URL:https://www.sccpr.com/event/cpr-bls-provider-c-aed-132/
LOCATION:Second Chance CPR Office\, 871 Janette Avenue\, Windsor\, Ontario\, N9A5A2\, Canada
CATEGORIES:Public
END:VEVENT
END:VCALENDAR