BEGIN:VCALENDAR
VERSION:2.0
PRODID:-//SCCPR - ECPv6.15.1.1//NONSGML v1.0//EN
CALSCALE:GREGORIAN
METHOD:PUBLISH
X-WR-CALNAME:SCCPR
X-ORIGINAL-URL:https://www.sccpr.com
X-WR-CALDESC:Events for SCCPR
REFRESH-INTERVAL;VALUE=DURATION:PT1H
X-Robots-Tag:noindex
X-PUBLISHED-TTL:PT1H
BEGIN:VTIMEZONE
TZID:UTC
BEGIN:STANDARD
TZOFFSETFROM:+0000
TZOFFSETTO:+0000
TZNAME:UTC
DTSTART:20230101T000000
END:STANDARD
END:VTIMEZONE
BEGIN:VEVENT
DTSTART;TZID=UTC:20231031T083000
DTEND;TZID=UTC:20231101T163000
DTSTAMP:20260422T015451
CREATED:20231020T162931Z
LAST-MODIFIED:20231027T205016Z
UID:49697-1698741000-1698856200@www.sccpr.com
SUMMARY:Standard First Aid/BLS CPR/AED
DESCRIPTION:This course is a 16-hour\, 2-day certification course in CPR – BLS (Basic Life Support) Provider/Standard First Aid/AED (Automated External Defibrillator). Course runs 8:30-4:30pm both days. \nCPR/AED are both a 1-year certification\, and Standard First Aid is a 3-year certification. This course teaches the participant how to approach and manage medical emergencies and provide care to the patient until EMS arrives. This course is required for workplaces employing six or more workers in any one shift at a work area or those interested in gaining enhanced first aid knowledge and skills as required by the Workplace Safety and Insurance Board under which Second Chance CPR is an approved provider for First Aid programs (WSIB Reg. 1101). \nCourses include following topics: \nHeart Attack & Stroke Choking  (conscious/unconscious)\nRescue Breathing CPR Skills\nBleeding and Wound Care\nMuscular/Skeletal Emergencies\nHead & Spinal Emergencies\nCommunicable Diseases\nRespiratory Emergencies\nDiabetic Emergencies\nBurns\nPoisoning\nSeizures\nTriage\nDefibrillation\nAirway Emergencies\nBites and Stings\nBreathing\nCirculation Issues \n**COURSE IS CLOSED FOR REGISTRATION**
URL:https://www.sccpr.com/event/standard-first-aid-bls-cpr-aed-18/
LOCATION:Second Chance CPR Office\, 871 Janette Avenue\, Windsor\, Ontario\, N9A5A2\, Canada
CATEGORIES:Public
END:VEVENT
BEGIN:VEVENT
DTSTART;TZID=UTC:20231104T083000
DTEND;TZID=UTC:20231105T163000
DTSTAMP:20260422T015451
CREATED:20231010T174352Z
LAST-MODIFIED:20231025T203520Z
UID:49412-1699086600-1699201800@www.sccpr.com
SUMMARY:Standard First Aid/BLS CPR/AED
DESCRIPTION:This course is a 16-hour\, 2-day certification course in CPR – BLS (Basic Life Support) Provider/Standard First Aid/AED (Automated External Defibrillator). Course runs 8:30-4:30pm both days. \nCPR/AED are both a 1-year certification\, and Standard First Aid is a 3-year certification. This course teaches the participant how to approach and manage medical emergencies and provide care to the patient until EMS arrives. This course is required for workplaces employing six or more workers in any one shift at a work area or those interested in gaining enhanced first aid knowledge and skills as required by the Workplace Safety and Insurance Board under which Second Chance CPR is an approved provider for First Aid programs (WSIB Reg. 1101). \nCourses include following topics: \nHeart Attack & Stroke Choking  (conscious/unconscious)\nRescue Breathing CPR Skills\nBleeding and Wound Care\nMuscular/Skeletal Emergencies\nHead & Spinal Emergencies\nCommunicable Diseases\nRespiratory Emergencies\nDiabetic Emergencies\nBurns\nPoisoning\nSeizures\nTriage\nDefibrillation\nAirway Emergencies\nBites and Stings\nBreathing\nCirculation Issues \n  \n**COURSE IS CLOSED FOR REGISTRATION**
URL:https://www.sccpr.com/event/standard-first-aid-bls-cpr-aed-15/
LOCATION:Second Chance CPR Office\, 871 Janette Avenue\, Windsor\, Ontario\, N9A5A2\, Canada
CATEGORIES:Public
END:VEVENT
BEGIN:VEVENT
DTSTART;TZID=UTC:20231106T180000
DTEND;TZID=UTC:20231106T220000
DTSTAMP:20260422T015451
CREATED:20231017T132440Z
LAST-MODIFIED:20231106T162554Z
UID:49597-1699293600-1699308000@www.sccpr.com
SUMMARY:CPR: BLS Provider (C) / AED
DESCRIPTION:The BLS for Healthcare Provider (C) course skills taught are 1- and 2-rescuer adult\, child and infant CPR\, choking\, automated external defibrillator (AED) training and the use of bag valve mask (BVM). The course is designed for healthcare providers who need a credentialed course and is also open to first responders who have a duty to respond to a cardiac emergency because of job responsibilities or regulatory requirements. \n  \n**COURSE IS CLOSED FOR REGISTRATION**
URL:https://www.sccpr.com/event/cpr-bls-provider-c-aed-113/
LOCATION:Second Chance CPR Office\, 871 Janette Avenue\, Windsor\, Ontario\, N9A5A2\, Canada
CATEGORIES:Public
END:VEVENT
BEGIN:VEVENT
DTSTART;TZID=UTC:20231113T180000
DTEND;TZID=UTC:20231113T220000
DTSTAMP:20260422T015451
CREATED:20231107T213931Z
LAST-MODIFIED:20231107T213931Z
UID:50296-1699898400-1699912800@www.sccpr.com
SUMMARY:CPR: BLS Provider (C) / AED
DESCRIPTION:The BLS for Healthcare Provider (C) course skills taught are 1- and 2-rescuer adult\, child and infant CPR\, choking\, automated external defibrillator (AED) training and the use of bag valve mask (BVM). The course is designed for healthcare providers who need a credentialed course and is also open to first responders who have a duty to respond to a cardiac emergency because of job responsibilities or regulatory requirements.
URL:https://www.sccpr.com/event/cpr-bls-provider-c-aed-115/
LOCATION:Second Chance CPR Office\, 871 Janette Avenue\, Windsor\, Ontario\, N9A5A2\, Canada
CATEGORIES:Public
END:VEVENT
BEGIN:VEVENT
DTSTART;TZID=UTC:20231116T083000
DTEND;TZID=UTC:20231117T163000
DTSTAMP:20260422T015451
CREATED:20231030T133924Z
LAST-MODIFIED:20231030T134046Z
UID:50048-1700123400-1700238600@www.sccpr.com
SUMMARY:Standard First Aid/BLS CPR/AED
DESCRIPTION:This course is a 16-hour\, 2-day certification course in CPR – BLS (Basic Life Support) Provider/Standard First Aid/AED (Automated External Defibrillator). Course runs 8:30-4:30pm both days. \nCPR/AED are both a 1-year certification\, and Standard First Aid is a 3-year certification. This course teaches the participant how to approach and manage medical emergencies and provide care to the patient until EMS arrives. This course is required for workplaces employing six or more workers in any one shift at a work area or those interested in gaining enhanced first aid knowledge and skills as required by the Workplace Safety and Insurance Board under which Second Chance CPR is an approved provider for First Aid programs (WSIB Reg. 1101). \nCourses include following topics: \nHeart Attack & Stroke Choking  (conscious/unconscious)\nRescue Breathing CPR Skills\nBleeding and Wound Care\nMuscular/Skeletal Emergencies\nHead & Spinal Emergencies\nCommunicable Diseases\nRespiratory Emergencies\nDiabetic Emergencies\nBurns\nPoisoning\nSeizures\nTriage\nDefibrillation\nAirway Emergencies\nBites and Stings\nBreathing\nCirculation Issues
URL:https://www.sccpr.com/event/standard-first-aid-bls-cpr-aed-20/
LOCATION:Second Chance CPR Office\, 871 Janette Avenue\, Windsor\, Ontario\, N9A5A2\, Canada
CATEGORIES:Public
END:VEVENT
BEGIN:VEVENT
DTSTART;TZID=UTC:20231116T180000
DTEND;TZID=UTC:20231116T220000
DTSTAMP:20260422T015451
CREATED:20231027T205503Z
LAST-MODIFIED:20231103T192509Z
UID:49955-1700157600-1700172000@www.sccpr.com
SUMMARY:CPR: BLS Provider (C) / AED
DESCRIPTION:The BLS for Healthcare Provider (C) course skills taught are 1- and 2-rescuer adult\, child and infant CPR\, choking\, automated external defibrillator (AED) training and the use of bag valve mask (BVM). The course is designed for healthcare providers who need a credentialed course and is also open to first responders who have a duty to respond to a cardiac emergency because of job responsibilities or regulatory requirements. \n  \n**COURSE IS CLOSED FOR REGISTRATION**
URL:https://www.sccpr.com/event/cpr-bls-provider-c-aed-114/
LOCATION:Second Chance CPR Office\, 871 Janette Avenue\, Windsor\, Ontario\, N9A5A2\, Canada
CATEGORIES:Public
END:VEVENT
BEGIN:VEVENT
DTSTART;TZID=UTC:20231118T083000
DTEND;TZID=UTC:20231119T163000
DTSTAMP:20260422T015451
CREATED:20231011T134520Z
LAST-MODIFIED:20231115T182104Z
UID:49430-1700296200-1700411400@www.sccpr.com
SUMMARY:Standard First Aid/BLS CPR/AED
DESCRIPTION:This course is a 16-hour\, 2-day certification course in CPR – BLS (Basic Life Support) Provider/Standard First Aid/AED (Automated External Defibrillator). Course runs 8:30-4:30pm both days. \nCPR/AED are both a 1-year certification\, and Standard First Aid is a 3-year certification. This course teaches the participant how to approach and manage medical emergencies and provide care to the patient until EMS arrives. This course is required for workplaces employing six or more workers in any one shift at a work area or those interested in gaining enhanced first aid knowledge and skills as required by the Workplace Safety and Insurance Board under which Second Chance CPR is an approved provider for First Aid programs (WSIB Reg. 1101). \nCourses include following topics: \nHeart Attack & Stroke Choking  (conscious/unconscious)\nRescue Breathing CPR Skills\nBleeding and Wound Care\nMuscular/Skeletal Emergencies\nHead & Spinal Emergencies\nCommunicable Diseases\nRespiratory Emergencies\nDiabetic Emergencies\nBurns\nPoisoning\nSeizures\nTriage\nDefibrillation\nAirway Emergencies\nBites and Stings\nBreathing\nCirculation Issues \n  \n**COURSE IS CLOSED FOR REGISTRATION**
URL:https://www.sccpr.com/event/standard-first-aid-bls-cpr-aed-17/
LOCATION:Second Chance CPR Office\, 871 Janette Avenue\, Windsor\, Ontario\, N9A5A2\, Canada
CATEGORIES:Public
END:VEVENT
BEGIN:VEVENT
DTSTART;TZID=UTC:20231129T180000
DTEND;TZID=UTC:20231129T220000
DTSTAMP:20260422T015451
CREATED:20231115T182623Z
LAST-MODIFIED:20231127T200201Z
UID:50625-1701280800-1701295200@www.sccpr.com
SUMMARY:CPR: BLS Provider (C) / AED
DESCRIPTION:The BLS for Healthcare Provider (C) course skills taught are 1- and 2-rescuer adult\, child and infant CPR\, choking\, automated external defibrillator (AED) training and the use of bag valve mask (BVM). The course is designed for healthcare providers who need a credentialed course and is also open to first responders who have a duty to respond to a cardiac emergency because of job responsibilities or regulatory requirements. \n***COURSE IS CLOSED FOR REGISTRATION***
URL:https://www.sccpr.com/event/cpr-bls-provider-c-aed-116/
LOCATION:Second Chance CPR Office\, 871 Janette Avenue\, Windsor\, Ontario\, N9A5A2\, Canada
CATEGORIES:Public
END:VEVENT
END:VCALENDAR