BEGIN:VCALENDAR
VERSION:2.0
PRODID:-//SCCPR - ECPv6.15.1.1//NONSGML v1.0//EN
CALSCALE:GREGORIAN
METHOD:PUBLISH
X-WR-CALNAME:SCCPR
X-ORIGINAL-URL:https://www.sccpr.com
X-WR-CALDESC:Events for SCCPR
REFRESH-INTERVAL;VALUE=DURATION:PT1H
X-Robots-Tag:noindex
X-PUBLISHED-TTL:PT1H
BEGIN:VTIMEZONE
TZID:UTC
BEGIN:STANDARD
TZOFFSETFROM:+0000
TZOFFSETTO:+0000
TZNAME:UTC
DTSTART:20240101T000000
END:STANDARD
END:VTIMEZONE
BEGIN:VEVENT
DTSTART;TZID=UTC:20240109T180000
DTEND;TZID=UTC:20240109T220000
DTSTAMP:20260421T222625
CREATED:20240108T153845Z
LAST-MODIFIED:20240108T153845Z
UID:51730-1704823200-1704837600@www.sccpr.com
SUMMARY:CPR: BLS Provider (C) / AED
DESCRIPTION:The BLS for Healthcare Provider (C) course skills taught are 1- and 2-rescuer adult\, child and infant CPR\, choking\, automated external defibrillator (AED) training and the use of bag valve mask (BVM). The course is designed for healthcare providers who need a credentialed course and is also open to first responders who have a duty to respond to a cardiac emergency because of job responsibilities or regulatory requirements.
URL:https://www.sccpr.com/event/cpr-bls-provider-c-aed-118/
LOCATION:Second Chance CPR Office\, 871 Janette Avenue\, Windsor\, Ontario\, N9A5A2\, Canada
CATEGORIES:Public
END:VEVENT
BEGIN:VEVENT
DTSTART;TZID=UTC:20240113T083000
DTEND;TZID=UTC:20240114T163000
DTSTAMP:20260421T222625
CREATED:20240108T152948Z
LAST-MODIFIED:20240108T152948Z
UID:51726-1705134600-1705249800@www.sccpr.com
SUMMARY:Standard First Aid/BLS CPR/AED
DESCRIPTION:This course is a 16-hour\, 2-day certification course in CPR – BLS (Basic Life Support) Provider/Standard First Aid/AED (Automated External Defibrillator). Course runs 8:30-4:30pm both days. \nCPR/AED are both a 1-year certification\, and Standard First Aid is a 3-year certification. This course teaches the participant how to approach and manage medical emergencies and provide care to the patient until EMS arrives. This course is required for workplaces employing six or more workers in any one shift at a work area or those interested in gaining enhanced first aid knowledge and skills as required by the Workplace Safety and Insurance Board under which Second Chance CPR is an approved provider for First Aid programs (WSIB Reg. 1101). \nCourses include following topics: \nHeart Attack & Stroke Choking  (conscious/unconscious)\nRescue Breathing CPR Skills\nBleeding and Wound Care\nMuscular/Skeletal Emergencies\nHead & Spinal Emergencies\nCommunicable Diseases\nRespiratory Emergencies\nDiabetic Emergencies\nBurns\nPoisoning\nSeizures\nTriage\nDefibrillation\nAirway Emergencies\nBites and Stings\nBreathing\nCirculation Issues
URL:https://www.sccpr.com/event/standard-first-aid-bls-cpr-aed-22/
LOCATION:Second Chance CPR Office\, 871 Janette Avenue\, Windsor\, Ontario\, N9A5A2\, Canada
CATEGORIES:Public
END:VEVENT
BEGIN:VEVENT
DTSTART;TZID=UTC:20240116T180000
DTEND;TZID=UTC:20240116T220000
DTSTAMP:20260421T222625
CREATED:20240108T154008Z
LAST-MODIFIED:20240108T154008Z
UID:51732-1705428000-1705442400@www.sccpr.com
SUMMARY:CPR: BLS Provider (C) / AED
DESCRIPTION:The BLS for Healthcare Provider (C) course skills taught are 1- and 2-rescuer adult\, child and infant CPR\, choking\, automated external defibrillator (AED) training and the use of bag valve mask (BVM). The course is designed for healthcare providers who need a credentialed course and is also open to first responders who have a duty to respond to a cardiac emergency because of job responsibilities or regulatory requirements.
URL:https://www.sccpr.com/event/cpr-bls-provider-c-aed-119/
LOCATION:Second Chance CPR Office\, 871 Janette Avenue\, Windsor\, Ontario\, N9A5A2\, Canada
CATEGORIES:Public
END:VEVENT
BEGIN:VEVENT
DTSTART;TZID=UTC:20240118T083000
DTEND;TZID=UTC:20240119T163000
DTSTAMP:20260421T222625
CREATED:20240108T191424Z
LAST-MODIFIED:20240108T194127Z
UID:51742-1705566600-1705681800@www.sccpr.com
SUMMARY:Standard First Aid/BLS CPR/AED
DESCRIPTION:This course is a 16-hour\, 2-day certification course in CPR – BLS (Basic Life Support) Provider/Standard First Aid/AED (Automated External Defibrillator). Course runs 8:30-4:30pm both days. \nCPR/AED are both a 1-year certification\, and Standard First Aid is a 3-year certification. This course teaches the participant how to approach and manage medical emergencies and provide care to the patient until EMS arrives. This course is required for workplaces employing six or more workers in any one shift at a work area or those interested in gaining enhanced first aid knowledge and skills as required by the Workplace Safety and Insurance Board under which Second Chance CPR is an approved provider for First Aid programs (WSIB Reg. 1101). \nCourses include following topics: \nHeart Attack & Stroke Choking  (conscious/unconscious)\nRescue Breathing CPR Skills\nBleeding and Wound Care\nMuscular/Skeletal Emergencies\nHead & Spinal Emergencies\nCommunicable Diseases\nRespiratory Emergencies\nDiabetic Emergencies\nBurns\nPoisoning\nSeizures\nTriage\nDefibrillation\nAirway Emergencies\nBites and Stings\nBreathing\nCirculation Issues
URL:https://www.sccpr.com/event/standard-first-aid-bls-cpr-aed-24/
LOCATION:Second Chance CPR Office\, 871 Janette Avenue\, Windsor\, Ontario\, N9A5A2\, Canada
CATEGORIES:Public
END:VEVENT
BEGIN:VEVENT
DTSTART;TZID=UTC:20240120T083000
DTEND;TZID=UTC:20240121T163000
DTSTAMP:20260421T222625
CREATED:20240108T153040Z
LAST-MODIFIED:20240108T153040Z
UID:51728-1705739400-1705854600@www.sccpr.com
SUMMARY:Standard First Aid/BLS CPR/AED
DESCRIPTION:This course is a 16-hour\, 2-day certification course in CPR – BLS (Basic Life Support) Provider/Standard First Aid/AED (Automated External Defibrillator). Course runs 8:30-4:30pm both days. \nCPR/AED are both a 1-year certification\, and Standard First Aid is a 3-year certification. This course teaches the participant how to approach and manage medical emergencies and provide care to the patient until EMS arrives. This course is required for workplaces employing six or more workers in any one shift at a work area or those interested in gaining enhanced first aid knowledge and skills as required by the Workplace Safety and Insurance Board under which Second Chance CPR is an approved provider for First Aid programs (WSIB Reg. 1101). \nCourses include following topics: \nHeart Attack & Stroke Choking  (conscious/unconscious)\nRescue Breathing CPR Skills\nBleeding and Wound Care\nMuscular/Skeletal Emergencies\nHead & Spinal Emergencies\nCommunicable Diseases\nRespiratory Emergencies\nDiabetic Emergencies\nBurns\nPoisoning\nSeizures\nTriage\nDefibrillation\nAirway Emergencies\nBites and Stings\nBreathing\nCirculation Issues
URL:https://www.sccpr.com/event/standard-first-aid-bls-cpr-aed-23/
LOCATION:Second Chance CPR Office\, 871 Janette Avenue\, Windsor\, Ontario\, N9A5A2\, Canada
CATEGORIES:Public
END:VEVENT
BEGIN:VEVENT
DTSTART;TZID=UTC:20240125T180000
DTEND;TZID=UTC:20240125T220000
DTSTAMP:20260421T222625
CREATED:20240108T154325Z
LAST-MODIFIED:20240122T160058Z
UID:51734-1706205600-1706220000@www.sccpr.com
SUMMARY:CPR: BLS Provider (C) / AED
DESCRIPTION:The BLS for Healthcare Provider (C) course skills taught are 1- and 2-rescuer adult\, child and infant CPR\, choking\, automated external defibrillator (AED) training and the use of bag valve mask (BVM). The course is designed for healthcare providers who need a credentialed course and is also open to first responders who have a duty to respond to a cardiac emergency because of job responsibilities or regulatory requirements. \n  \n**COURSE IS CLOSED FOR REGISTRATION**
URL:https://www.sccpr.com/event/cpr-bls-provider-c-aed-120/
LOCATION:Second Chance CPR Office\, 871 Janette Avenue\, Windsor\, Ontario\, N9A5A2\, Canada
CATEGORIES:Public
END:VEVENT
END:VCALENDAR