BEGIN:VCALENDAR
VERSION:2.0
PRODID:-//SCCPR - ECPv6.15.1.1//NONSGML v1.0//EN
CALSCALE:GREGORIAN
METHOD:PUBLISH
X-ORIGINAL-URL:https://www.sccpr.com
X-WR-CALDESC:Events for SCCPR
REFRESH-INTERVAL;VALUE=DURATION:PT1H
X-Robots-Tag:noindex
X-PUBLISHED-TTL:PT1H
BEGIN:VTIMEZONE
TZID:UTC
BEGIN:STANDARD
TZOFFSETFROM:+0000
TZOFFSETTO:+0000
TZNAME:UTC
DTSTART:20240101T000000
END:STANDARD
END:VTIMEZONE
BEGIN:VEVENT
DTSTART;TZID=UTC:20240503T083000
DTEND;TZID=UTC:20240503T123000
DTSTAMP:20260421T152659
CREATED:20240422T181244Z
LAST-MODIFIED:20240501T144027Z
UID:54383-1714725000-1714739400@www.sccpr.com
SUMMARY:CPR: BLS Provider (C) / AED
DESCRIPTION:The BLS for Healthcare Provider (C) course skills taught are 1- and 2-rescuer adult\, child and infant CPR\, choking\, automated external defibrillator (AED) training and the use of bag valve mask (BVM). The course is designed for healthcare providers who need a credentialed course and is also open to first responders who have a duty to respond to a cardiac emergency because of job responsibilities or regulatory requirements. \n  \n**CLASS IS FULL – REGISTRATION IS CLOSED **
URL:https://www.sccpr.com/event/cpr-bls-provider-c-aed-126/
LOCATION:Second Chance CPR Office\, 871 Janette Avenue\, Windsor\, Ontario\, N9A5A2\, Canada
CATEGORIES:Public
END:VEVENT
BEGIN:VEVENT
DTSTART;TZID=UTC:20240506T083000
DTEND;TZID=UTC:20240507T163000
DTSTAMP:20260421T152659
CREATED:20240422T181002Z
LAST-MODIFIED:20240502T190950Z
UID:54380-1714984200-1715099400@www.sccpr.com
SUMMARY:Standard First Aid/BLS CPR/AED
DESCRIPTION:This course is a 16-hour\, 2-day certification course in CPR – BLS (Basic Life Support) Provider/Standard First Aid/AED (Automated External Defibrillator). Course runs 8:30-4:30pm both days. \nCPR/AED are both a 1-year certification\, and Standard First Aid is a 3-year certification. This course teaches the participant how to approach and manage medical emergencies and provide care to the patient until EMS arrives. This course is required for workplaces employing six or more workers in any one shift at a work area or those interested in gaining enhanced first aid knowledge and skills as required by the Workplace Safety and Insurance Board under which Second Chance CPR is an approved provider for First Aid programs (WSIB Reg. 1101). \nCourses include following topics: \nHeart Attack & Stroke Choking  (conscious/unconscious)\nRescue Breathing CPR Skills\nBleeding and Wound Care\nMuscular/Skeletal Emergencies\nHead & Spinal Emergencies\nCommunicable Diseases\nRespiratory Emergencies\nDiabetic Emergencies\nBurns\nPoisoning\nSeizures\nTriage\nDefibrillation\nAirway Emergencies\nBites and Stings\nBreathing\nCirculation Issues \n  \n** COURSE IS CLOSED FOR REGISTRATION **
URL:https://www.sccpr.com/event/standard-first-aid-bls-cpr-aed-36/
LOCATION:Second Chance CPR Office\, 871 Janette Avenue\, Windsor\, Ontario\, N9A5A2\, Canada
CATEGORIES:Public
END:VEVENT
BEGIN:VEVENT
DTSTART;TZID=UTC:20240508T180000
DTEND;TZID=UTC:20240508T220000
DTSTAMP:20260421T152659
CREATED:20240422T181346Z
LAST-MODIFIED:20240503T192805Z
UID:54385-1715191200-1715205600@www.sccpr.com
SUMMARY:CPR: BLS Provider (C) / AED
DESCRIPTION:The BLS for Healthcare Provider (C) course skills taught are 1- and 2-rescuer adult\, child and infant CPR\, choking\, automated external defibrillator (AED) training and the use of bag valve mask (BVM). The course is designed for healthcare providers who need a credentialed course and is also open to first responders who have a duty to respond to a cardiac emergency because of job responsibilities or regulatory requirements. \n*** COURSE IS CLOSED FOR REGISTRATION ***
URL:https://www.sccpr.com/event/cpr-bls-provider-c-aed-127/
LOCATION:Second Chance CPR Office\, 871 Janette Avenue\, Windsor\, Ontario\, N9A5A2\, Canada
CATEGORIES:Public
END:VEVENT
BEGIN:VEVENT
DTSTART;TZID=UTC:20240523T180000
DTEND;TZID=UTC:20240523T220000
DTSTAMP:20260421T152659
CREATED:20240422T182030Z
LAST-MODIFIED:20240422T182030Z
UID:54389-1716487200-1716501600@www.sccpr.com
SUMMARY:CPR: BLS Provider (C) / AED
DESCRIPTION:The BLS for Healthcare Provider (C) course skills taught are 1- and 2-rescuer adult\, child and infant CPR\, choking\, automated external defibrillator (AED) training and the use of bag valve mask (BVM). The course is designed for healthcare providers who need a credentialed course and is also open to first responders who have a duty to respond to a cardiac emergency because of job responsibilities or regulatory requirements.
URL:https://www.sccpr.com/event/cpr-bls-provider-c-aed-128/
LOCATION:Second Chance CPR Office\, 871 Janette Avenue\, Windsor\, Ontario\, N9A5A2\, Canada
CATEGORIES:Public
END:VEVENT
BEGIN:VEVENT
DTSTART;TZID=UTC:20240524T083000
DTEND;TZID=UTC:20240524T123000
DTSTAMP:20260421T152659
CREATED:20240501T142722Z
LAST-MODIFIED:20240502T150451Z
UID:54591-1716539400-1716553800@www.sccpr.com
SUMMARY:CPR: BLS Provider (C) / AED
DESCRIPTION:The BLS for Healthcare Provider (C) course skills taught are 1- and 2-rescuer adult\, child and infant CPR\, choking\, automated external defibrillator (AED) training and the use of bag valve mask (BVM). The course is designed for healthcare providers who need a credentialed course and is also open to first responders who have a duty to respond to a cardiac emergency because of job responsibilities or regulatory requirements.
URL:https://www.sccpr.com/event/cpr-bls-provider-c-aed-129/
LOCATION:Second Chance CPR Office\, 871 Janette Avenue\, Windsor\, Ontario\, N9A5A2\, Canada
CATEGORIES:Public
END:VEVENT
BEGIN:VEVENT
DTSTART;TZID=UTC:20240525T083000
DTEND;TZID=UTC:20240526T163000
DTSTAMP:20260421T152659
CREATED:20240422T181514Z
LAST-MODIFIED:20240422T181514Z
UID:54387-1716625800-1716741000@www.sccpr.com
SUMMARY:Standard First Aid/BLS CPR/AED
DESCRIPTION:This course is a 16-hour\, 2-day certification course in CPR – BLS (Basic Life Support) Provider/Standard First Aid/AED (Automated External Defibrillator). Course runs 8:30-4:30pm both days. \nCPR/AED are both a 1-year certification\, and Standard First Aid is a 3-year certification. This course teaches the participant how to approach and manage medical emergencies and provide care to the patient until EMS arrives. This course is required for workplaces employing six or more workers in any one shift at a work area or those interested in gaining enhanced first aid knowledge and skills as required by the Workplace Safety and Insurance Board under which Second Chance CPR is an approved provider for First Aid programs (WSIB Reg. 1101). \nCourses include following topics: \nHeart Attack & Stroke Choking  (conscious/unconscious)\nRescue Breathing CPR Skills\nBleeding and Wound Care\nMuscular/Skeletal Emergencies\nHead & Spinal Emergencies\nCommunicable Diseases\nRespiratory Emergencies\nDiabetic Emergencies\nBurns\nPoisoning\nSeizures\nTriage\nDefibrillation\nAirway Emergencies\nBites and Stings\nBreathing\nCirculation Issues
URL:https://www.sccpr.com/event/standard-first-aid-bls-cpr-aed-37/
LOCATION:Second Chance CPR Office\, 871 Janette Avenue\, Windsor\, Ontario\, N9A5A2\, Canada
CATEGORIES:Public
END:VEVENT
END:VCALENDAR